BEGIN:VCALENDAR
VERSION:2.0
METHOD:PUBLISH
BEGIN:VEVENT
DTSTAMP:20260424T203701Z
DTSTART:20260506T180000Z
DTEND:20260506T183000Z
SUMMARY:Behind the Scenes: Museum Month Tours
LOCATION:2423 Kelly Rd, Oil Springs, ON N0N 1P0
END:VEVENT
END:VCALENDAR
