BEGIN:VCALENDAR
VERSION:2.0
METHOD:PUBLISH
BEGIN:VEVENT
DTSTAMP:20260420T020706Z
DTSTART:20250727T003000Z
DTEND:20250727T035900Z
SUMMARY:Stargazing at the Oil Museum of Canada
LOCATION:2423 Kelly Rd, Oil Springs, ON N0N 1P0
END:VEVENT
END:VCALENDAR
