BEGIN:VCALENDAR
VERSION:2.0
METHOD:PUBLISH
BEGIN:VEVENT
DTSTAMP:20260420T114013Z
DTSTART:20231028T150000Z
DTEND:20231028T190000Z
SUMMARY:Cackling Cauldrons: Trick-or-Treat Event
LOCATION:2423 Kelly Road, Oil Springs, ON N0N 1P0
END:VEVENT
END:VCALENDAR
