BEGIN:VCALENDAR
VERSION:2.0
METHOD:PUBLISH
BEGIN:VEVENT
DTSTAMP:20260420T100554Z
DTSTART:20230609T150000Z
DTEND:20230609T190000Z
SUMMARY:PA Day Event: The Science Behind Refining and Oil
LOCATION:2423 Kelly Road, Oil Springs, Ontario N0N 1P0
END:VEVENT
END:VCALENDAR
