BEGIN:VCALENDAR
VERSION:2.0
METHOD:PUBLISH
BEGIN:VEVENT
DTSTAMP:20260424T144347Z
DTSTART:20221029T150000Z
DTEND:20221029T190000Z
SUMMARY:Cackling Cauldrons: A Trick or Treat Event
LOCATION:2423 Kelly Rd, Oil Springs, ON N0N 1P0
END:VEVENT
END:VCALENDAR
