BEGIN:VCALENDAR
VERSION:2.0
METHOD:PUBLISH
BEGIN:VEVENT
DTSTAMP:20260424T161401Z
DTSTART:20220818T230000Z
DTEND:20220819T000000Z
SUMMARY:Virtual Talk: Drake Well Museum and Park
END:VEVENT
END:VCALENDAR
