BEGIN:VCALENDAR
VERSION:2.0
METHOD:PUBLISH
BEGIN:VEVENT
DTSTAMP:20260423T224008Z
DTSTART:20260513T150000Z
DTEND:20260513T150000Z
SUMMARY:Exhibit Opening - Bluewaterland: Dive into the Depths
LOCATION:10035 Museum Rd, Grand Bend, ON N0M 1T0
END:VEVENT
END:VCALENDAR
