BEGIN:VCALENDAR
VERSION:2.0
METHOD:PUBLISH
BEGIN:VEVENT
DTSTAMP:20260424T000244Z
DTSTART:20260430T230000Z
DTEND:20260501T000000Z
SUMMARY:Heritage Hour: Lambton Goes Global
END:VEVENT
END:VCALENDAR
