BEGIN:VCALENDAR
VERSION:2.0
METHOD:PUBLISH
BEGIN:VEVENT
DTSTAMP:20260420T114053Z
DTSTART:20231006T150000Z
DTEND:20231006T200000Z
SUMMARY:PA Day Event: Our Wonderful Watersheds
LOCATION:10035 Museum Road, Grand Bend, ON N0M 1T0
END:VEVENT
END:VCALENDAR
