BEGIN:VCALENDAR
VERSION:2.0
METHOD:PUBLISH
BEGIN:VEVENT
DTSTAMP:20260420T112705Z
DTSTART:20230610T150000Z
DTEND:20230610T200000Z
SUMMARY:Lambton Gallery Re-Opening Celebration
LOCATION:10035 Museum Rd, Grand Bend, ON N0M 1T0
END:VEVENT
END:VCALENDAR
