BEGIN:VCALENDAR
VERSION:2.0
METHOD:PUBLISH
BEGIN:VEVENT
DTSTAMP:20260420T100530Z
DTSTART:20230609T150000Z
DTEND:20230609T200000Z
SUMMARY:P.A. Day Event: Trash to Treasure, What can I do?
LOCATION:10035 Museum Rd, Grand Bend, ON N0M 1T0
END:VEVENT
END:VCALENDAR
