BEGIN:VCALENDAR
VERSION:2.0
METHOD:PUBLISH
BEGIN:VEVENT
DTSTAMP:20260422T130130Z
DTSTART:20260424T150000Z
DTEND:20260424T190000Z
SUMMARY:PA Day: Rock On!
LOCATION:2423 Kelly Rd, Oil Springs, ON N0N 1P0
END:VEVENT
END:VCALENDAR
