BEGIN:VCALENDAR
VERSION:2.0
METHOD:PUBLISH
BEGIN:VEVENT
DTSTAMP:20260422T033145Z
DTSTART:20250618T180000Z
DTEND:20250618T190000Z
SUMMARY:The Preservation Lab: Digitization
LOCATION:787 Broadway St, Wyoming, ON N0N 1T0
END:VEVENT
END:VCALENDAR
