BEGIN:VCALENDAR
VERSION:2.0
METHOD:PUBLISH
BEGIN:VEVENT
DTSTAMP:20260419T151138Z
DTSTART:20260429T140000Z
DTEND:20260429T170000Z
SUMMARY:In-Person Tour
LOCATION:2423 Kelly Rd, Oil Springs, ON N0N 1P0
END:VEVENT
END:VCALENDAR
